BEGIN:VCALENDAR
VERSION:2.0
PRODID:-//VMJ - ECPv6.15.20//NONSGML v1.0//EN
CALSCALE:GREGORIAN
METHOD:PUBLISH
X-ORIGINAL-URL:https://visualmusicjapan.com
X-WR-CALDESC:Events for VMJ
REFRESH-INTERVAL;VALUE=DURATION:PT1H
X-Robots-Tag:noindex
X-PUBLISHED-TTL:PT1H
BEGIN:VTIMEZONE
TZID:UTC
BEGIN:STANDARD
TZOFFSETFROM:+0000
TZOFFSETTO:+0000
TZNAME:UTC
DTSTART:20230101T000000
END:STANDARD
END:VTIMEZONE
BEGIN:VEVENT
DTSTART;VALUE=DATE:20240320
DTEND;VALUE=DATE:20240321
DTSTAMP:20260425T101614
CREATED:20231114T015034Z
LAST-MODIFIED:20231220T131347Z
UID:867-1710892800-1710979199@visualmusicjapan.com
SUMMARY:DIR EN GREY @ Progresja - Warszawa [PL] – March 20\, 2024
DESCRIPTION:Date: March 20\, 2024\nLocation: Progresja – Warszawa [PL]
URL:https://visualmusicjapan.com/event/dir-en-grey-progresja-warszawa-march-20-2024
LOCATION:Progresja\, Poland
CATEGORIES:Upcoming Event
ATTACH;FMTTYPE=image/jpeg:https://visualmusicjapan.com/wp-content/uploads/2023/11/962608-dir-en-grey-en-concert-a-l-elysee-montmartre-de-paris-en-fevrier-2020.jpg
END:VEVENT
END:VCALENDAR