BEGIN:VCALENDAR
VERSION:2.0
PRODID:-//VMJ - ECPv6.15.20//NONSGML v1.0//EN
CALSCALE:GREGORIAN
METHOD:PUBLISH
X-ORIGINAL-URL:https://visualmusicjapan.com
X-WR-CALDESC:Events for VMJ
REFRESH-INTERVAL;VALUE=DURATION:PT1H
X-Robots-Tag:noindex
X-PUBLISHED-TTL:PT1H
BEGIN:VTIMEZONE
TZID:Asia/Tokyo
BEGIN:STANDARD
TZOFFSETFROM:+0900
TZOFFSETTO:+0900
TZNAME:JST
DTSTART:20230101T000000
END:STANDARD
END:VTIMEZONE
BEGIN:VEVENT
DTSTART;VALUE=DATE:20240328
DTEND;VALUE=DATE:20240329
DTSTAMP:20260425T101612
CREATED:20231220T135735Z
LAST-MODIFIED:20231220T135826Z
UID:3541-1711584000-1711670399@visualmusicjapan.com
SUMMARY:DIR EN GREY @ Turbinenhalle\, Oberhausen [DE] - March 28 (2024)
DESCRIPTION:Date:\nLocation:
URL:https://visualmusicjapan.com/event/dir-en-grey-turbinenhalle-oberhausen-de-march-28-2024
CATEGORIES:Upcoming Event
ATTACH;FMTTYPE=image/jpeg:https://visualmusicjapan.com/wp-content/uploads/2023/11/962608-dir-en-grey-en-concert-a-l-elysee-montmartre-de-paris-en-fevrier-2020.jpg
END:VEVENT
END:VCALENDAR