BEGIN:VCALENDAR
VERSION:2.0
PRODID:-//VMJ - ECPv6.15.20//NONSGML v1.0//EN
CALSCALE:GREGORIAN
METHOD:PUBLISH
X-ORIGINAL-URL:https://visualmusicjapan.com
X-WR-CALDESC:Events for VMJ
REFRESH-INTERVAL;VALUE=DURATION:PT1H
X-Robots-Tag:noindex
X-PUBLISHED-TTL:PT1H
BEGIN:VTIMEZONE
TZID:Asia/Tokyo
BEGIN:STANDARD
TZOFFSETFROM:+0900
TZOFFSETTO:+0900
TZNAME:JST
DTSTART:20230101T000000
END:STANDARD
END:VTIMEZONE
BEGIN:VEVENT
DTSTART;VALUE=DATE:20240424
DTEND;VALUE=DATE:20240425
DTSTAMP:20260425T090139
CREATED:20240314T014411Z
LAST-MODIFIED:20240412T011553Z
UID:5585-1713916800-1714003199@visualmusicjapan.com
SUMMARY:DIR EN GREY | The Devil In Me (single)
DESCRIPTION:DIR EN GREY | The Devil In Me (single) \n \nRelease date: April 24th\, 2024\nBlu-ray limited version: BUY HERE\nDVD version: BUY HERE\nRegular version: BUY HERE\nMore information: CLICK HERE
URL:https://visualmusicjapan.com/event/dir-en-grey-the-devil-in-me-single
CATEGORIES:Upcoming Release
ATTACH;FMTTYPE=image/jpeg:https://visualmusicjapan.com/wp-content/uploads/2024/03/dir_mainbanner_202404_MkVXU6.jpg
END:VEVENT
END:VCALENDAR