BEGIN:VCALENDAR
VERSION:2.0
PRODID:-//VMJ - ECPv6.15.20//NONSGML v1.0//EN
CALSCALE:GREGORIAN
METHOD:PUBLISH
X-WR-CALNAME:VMJ
X-ORIGINAL-URL:https://visualmusicjapan.com
X-WR-CALDESC:Events for VMJ
REFRESH-INTERVAL;VALUE=DURATION:PT1H
X-Robots-Tag:noindex
X-PUBLISHED-TTL:PT1H
BEGIN:VTIMEZONE
TZID:Asia/Tokyo
BEGIN:STANDARD
TZOFFSETFROM:+0900
TZOFFSETTO:+0900
TZNAME:JST
DTSTART:20230101T000000
END:STANDARD
END:VTIMEZONE
BEGIN:VEVENT
DTSTART;VALUE=DATE:20240623
DTEND;VALUE=DATE:20240624
DTSTAMP:20260425T064400
CREATED:20240402T010533Z
LAST-MODIFIED:20240402T010533Z
UID:5665-1719100800-1719187199@visualmusicjapan.com
SUMMARY:JILUKA @ Club Volta\, Cologne [DE] – June\, 23 (2024)
DESCRIPTION:BUY TICKETS: HERE
URL:https://visualmusicjapan.com/event/jiluka-club-volta-cologne-de-june-23-2024
CATEGORIES:Upcoming Event
ATTACH;FMTTYPE=image/jpeg:https://visualmusicjapan.com/wp-content/uploads/2024/04/jiluka-promo.jpg
END:VEVENT
END:VCALENDAR