BEGIN:VCALENDAR
VERSION:2.0
PRODID:-//VMJ - ECPv6.15.20//NONSGML v1.0//EN
CALSCALE:GREGORIAN
METHOD:PUBLISH
X-ORIGINAL-URL:https://visualmusicjapan.com
X-WR-CALDESC:Events for VMJ
REFRESH-INTERVAL;VALUE=DURATION:PT1H
X-Robots-Tag:noindex
X-PUBLISHED-TTL:PT1H
BEGIN:VTIMEZONE
TZID:Asia/Tokyo
BEGIN:STANDARD
TZOFFSETFROM:+0900
TZOFFSETTO:+0900
TZNAME:JST
DTSTART:20230101T000000
END:STANDARD
END:VTIMEZONE
BEGIN:VEVENT
DTSTART;VALUE=DATE:20240624
DTEND;VALUE=DATE:20240625
DTSTAMP:20260425T064423
CREATED:20240402T010728Z
LAST-MODIFIED:20240402T010822Z
UID:5667-1719187200-1719273599@visualmusicjapan.com
SUMMARY:JILUKA @ La Maroquinerie\, Paris [FR] – June\, 24 (2024)
DESCRIPTION:BUY TICKETS: HERE
URL:https://visualmusicjapan.com/event/jiluka-la-maroquinerie-paris-fr-june-24-2024
CATEGORIES:Upcoming Event
ATTACH;FMTTYPE=image/jpeg:https://visualmusicjapan.com/wp-content/uploads/2024/04/jiluka-promo.jpg
END:VEVENT
END:VCALENDAR