BEGIN:VCALENDAR
VERSION:2.0
PRODID:-//VMJ - ECPv6.15.20//NONSGML v1.0//EN
CALSCALE:GREGORIAN
METHOD:PUBLISH
X-WR-CALNAME:VMJ
X-ORIGINAL-URL:https://visualmusicjapan.com
X-WR-CALDESC:Events for VMJ
REFRESH-INTERVAL;VALUE=DURATION:PT1H
X-Robots-Tag:noindex
X-PUBLISHED-TTL:PT1H
BEGIN:VTIMEZONE
TZID:Asia/Tokyo
BEGIN:STANDARD
TZOFFSETFROM:+0900
TZOFFSETTO:+0900
TZNAME:JST
DTSTART:20230101T000000
END:STANDARD
END:VTIMEZONE
BEGIN:VEVENT
DTSTART;VALUE=DATE:20241028
DTEND;VALUE=DATE:20241029
DTSTAMP:20260425T012610
CREATED:20241013T033121Z
LAST-MODIFIED:20241013T033121Z
UID:6773-1730073600-1730159999@visualmusicjapan.com
SUMMARY:dieS | EMBRYO (album)
DESCRIPTION:dieS | EMBRYO (album)\nRelease date: October 28th (2024)\nRecord company: SOUND MASTURBATION \n \nTRACKLIST:\n01. embryo\n02. Furuedasu Shintai ga OMAE wo Sagashidasu Atsuku Naru Shintaijuu no Chi ga OMAE wo Oboedasu\n震えだす身体全体がオマエを探しだし熱くなる身体中の血がオマエを覚えだす\n03. individual need\n04. Clock Work Angel\n05. SAD RAIN\n06. 無くならない夜\n07. illusion\n08. PLAY DEAD\n09. SEX SLAVE\n10. ALL DEAD DIES\n11. ONCE IN A BLUE….\n12. Gerbera\n13. HEAVEN \nPURCHASE:\nhttps://shopdies.thebase.in/ \nMORE INFO:\nOfficial Website\nX (ex-Twitter)
URL:https://visualmusicjapan.com/event/release-dies-embryo-album
CATEGORIES:Upcoming Release
ATTACH;FMTTYPE=image/jpeg:https://visualmusicjapan.com/wp-content/uploads/2024/10/daiarase-dies.jpg
END:VEVENT
END:VCALENDAR