BEGIN:VCALENDAR
VERSION:2.0
PRODID:-//VMJ - ECPv6.15.20//NONSGML v1.0//EN
CALSCALE:GREGORIAN
METHOD:PUBLISH
X-ORIGINAL-URL:https://visualmusicjapan.com
X-WR-CALDESC:Events for VMJ
REFRESH-INTERVAL;VALUE=DURATION:PT1H
X-Robots-Tag:noindex
X-PUBLISHED-TTL:PT1H
BEGIN:VTIMEZONE
TZID:Asia/Tokyo
BEGIN:STANDARD
TZOFFSETFROM:+0900
TZOFFSETTO:+0900
TZNAME:JST
DTSTART:20240101T000000
END:STANDARD
END:VTIMEZONE
BEGIN:VEVENT
DTSTART;VALUE=DATE:20250609
DTEND;VALUE=DATE:20250610
DTSTAMP:20260424T160949
CREATED:20250509T002805Z
LAST-MODIFIED:20250604T010540Z
UID:7782-1749427200-1749513599@visualmusicjapan.com
SUMMARY:kein | delusional inflammation (EP)
DESCRIPTION:kein | delusional inflammation (EP)\nRELEASE DATE: July 9th (2025) \n \nJapanese rock band kein have announced the release of their anticipated second major-label EP\, titled delusional inflammation\, set to drop on July 9\, 2025. The new release will feature five brand-new tracks\, continuing the band’s dark\, radical sonic aesthetic that has enchanted fans since their last EP\, PARADOXON DOLORIS. The EP’s evocative title—named by vocalist Maco—a phrase that hints at the band’s complex emotional landscapes and layered conceptual themes. As with their previous work\, each of the five tracks was written specifically for this release\, drawing on the diverse musical experiences of its members\, who have roots in influential acts like lynch.\, deadman\, and 101A.\nMore info coming up… \nTRACKLIST:\n01. Ono to hatsukoi [斧と初恋]（lyrics : Maco / music : Yuki）\n02. Ensou [幻想]（lyrics : Maco / music : Reo）\n03. Kikagaku Moyou [幾何学模様]（lyrics : Maco / music : aie）\n04. Hare Renochiame [晴レノチアメ]（lyrics : Maco / music : aie）\n05. Hajou [波状]（lyrics :Maco/ music : Yuki）\n–––Blu-ray–––\n01. Hajou「波状」Music Video\n02.Hajou 「波状」MV Making Of \nARTWORK:\n \n⩺ OFFICIAL WEBSITE | HERE\n⩺ OFFICIAL X | HERE
URL:https://visualmusicjapan.com/event/release-kein-delusional-inflammation-ep
CATEGORIES:Upcoming Release
ATTACH;FMTTYPE=image/jpeg:https://visualmusicjapan.com/wp-content/uploads/2025/05/kein-2025.jpg
END:VEVENT
END:VCALENDAR