BEGIN:VCALENDAR
VERSION:2.0
PRODID:-//VMJ - ECPv6.15.20//NONSGML v1.0//EN
CALSCALE:GREGORIAN
METHOD:PUBLISH
X-ORIGINAL-URL:https://visualmusicjapan.com
X-WR-CALDESC:Events for VMJ
REFRESH-INTERVAL;VALUE=DURATION:PT1H
X-Robots-Tag:noindex
X-PUBLISHED-TTL:PT1H
BEGIN:VTIMEZONE
TZID:Asia/Tokyo
BEGIN:STANDARD
TZOFFSETFROM:+0900
TZOFFSETTO:+0900
TZNAME:JST
DTSTART:20230101T000000
END:STANDARD
END:VTIMEZONE
BEGIN:VEVENT
DTSTART;VALUE=DATE:20240706
DTEND;VALUE=DATE:20240707
DTSTAMP:20260425T235814
CREATED:20240627T010200Z
LAST-MODIFIED:20240627T010657Z
UID:6256-1720224000-1720310399@visualmusicjapan.com
SUMMARY:DER ZIBET | ISSAY gave life to FLOWERS (tribute album)
DESCRIPTION:On August 5\, 2023 the music industry was shaken by the sudden loss of ISSAY\, the enigmatic frontman of the iconic band DER ZIBET. ISSAY\, a man known for his unique talent and gentle nature\, tragically passed away at the age of 61 following a fall after a happy gathering with friends. In honor of ISSAY’s memory and his contributions to the music world\, a tribute album is currently in the works\, featuring more than 70 artists\, who held a deep love and respect for him (READ MORE). Titled ISSAY gave life to FLOWERS\, this tribute album honors the late ISSAY\, the solitary rock poet and frontman of DER ZIBET. The tribute includes numerous artists such as SUGIZO\, Masami Tsuchiya welcoming ISSAY to KA.F.KA\, Yusuke Kobayashi and MORRIE\, among others. \n \nALBUM PODUCTION:\n– Produced by Hajime Okano\, who has previously worked with DER ZIBET and L’Arc～en～Ciel.\n– Features over 70 musicians covering ISSAY’s soulful works.\n– Funded through crowdfunding and supported by friends and musicians close to ISSAY/DER ZIBET.\n– Major labels are re-releasing and unlocking DER ZIBET’s past works for streaming.\n– Release Date: 2024/07/06\n– Number of Discs: 2
URL:https://visualmusicjapan.com/event/release-der-zibet-issay-gave-life-to-flowers-tribute-album
CATEGORIES:Upcoming Release
ATTACH;FMTTYPE=image/jpeg:https://visualmusicjapan.com/wp-content/uploads/2024/06/issayflowers.jpg
END:VEVENT
BEGIN:VEVENT
DTSTART;VALUE=DATE:20240710
DTEND;VALUE=DATE:20240711
DTSTAMP:20260425T235814
CREATED:20240611T004849Z
LAST-MODIFIED:20240611T004956Z
UID:6200-1720569600-1720655999@visualmusicjapan.com
SUMMARY:gibkiy gibkiy gibkiy | hanshi hanshou [半死半生] (EP)
DESCRIPTION:gibkiy gibkiy gibkiy | hanshi hanshou [半死半生] (EP) \n \nTRACKLIST:\n01. soshite sore ha hanshin han-nin\, kao ga oshite c de ha nakunarimashita\n(そして其れは半神半人、顔が墜ちて「c」では無くなりました)\n02. shiirareta mukara ana kara ana he\, macchiponpu no usagi ha shikabane\n(強いられた無から孔から穴へ、マッチポンプの兎は屍)\n03. renzokusei no saiku\n(連続性の細工)\n04. tsukasadoru niku\n(掌る肉) \nMORE INFO:\nhttp://gibkiy.com/\nhttps://x.com/gibkiy_official
URL:https://visualmusicjapan.com/event/gibkiy-gibkiy-gibkiy-hanshihanshou-ep
CATEGORIES:Upcoming Release
ATTACH;FMTTYPE=image/jpeg:https://visualmusicjapan.com/wp-content/uploads/2024/06/gibkiygibkiy.jpg
END:VEVENT
END:VCALENDAR