BEGIN:VCALENDAR
VERSION:2.0
PRODID:-//VMJ - ECPv6.15.20//NONSGML v1.0//EN
CALSCALE:GREGORIAN
METHOD:PUBLISH
X-ORIGINAL-URL:https://visualmusicjapan.com
X-WR-CALDESC:Events for VMJ
REFRESH-INTERVAL;VALUE=DURATION:PT1H
X-Robots-Tag:noindex
X-PUBLISHED-TTL:PT1H
BEGIN:VTIMEZONE
TZID:Asia/Tokyo
BEGIN:STANDARD
TZOFFSETFROM:+0900
TZOFFSETTO:+0900
TZNAME:JST
DTSTART:20240101T000000
END:STANDARD
END:VTIMEZONE
BEGIN:VEVENT
DTSTART;VALUE=DATE:20250528
DTEND;VALUE=DATE:20250529
DTSTAMP:20260424T164905
CREATED:20250509T010444Z
LAST-MODIFIED:20250509T010617Z
UID:7787-1748390400-1748476799@visualmusicjapan.com
SUMMARY:Luv PARADE | Hameln (single)
DESCRIPTION:Luv PARADE | Hameln (single)\nRELEASE DATE: May 28th (2025) \n \nLuv PARADE has announced their latest single\, Hameln\, set for release on May 28\, 2025 (Wednesday). The new CD single will include three tracks: the title song Hameln\, Heaven or Hell\, and a new version of JOKER titled JOKER -mangle mix-. This release marks the band’s continued creative momentum following a productive string of releases over the past year. Hameln follows their January single EDELWEISS\, which came on the heels of the digital-only track SHOOT IT DOWN. Fans may also recall the band’s impactful debut with NEW WORLD in September 2023\, and their first mini-album JOKER\, released in June 2024. \nTRACKLIST:\n01. Hameln\n02. Heaven or Hell\n03. JOKER -mangle mix- \nARTWORK:\ncoming up soon \n⩺ OFFICIAL WEBSITE | HERE\n⩺ OFFICIAL X | HERE
URL:https://visualmusicjapan.com/event/release-luv-parade-hameln-single
CATEGORIES:Upcoming Release
ATTACH;FMTTYPE=image/jpeg:https://visualmusicjapan.com/wp-content/uploads/2025/05/luvparade-eae.jpg
END:VEVENT
END:VCALENDAR