BEGIN:VCALENDAR
VERSION:2.0
PRODID:-//VMJ - ECPv6.15.20//NONSGML v1.0//EN
CALSCALE:GREGORIAN
METHOD:PUBLISH
X-WR-CALNAME:VMJ
X-ORIGINAL-URL:https://visualmusicjapan.com
X-WR-CALDESC:Events for VMJ
REFRESH-INTERVAL;VALUE=DURATION:PT1H
X-Robots-Tag:noindex
X-PUBLISHED-TTL:PT1H
BEGIN:VTIMEZONE
TZID:Asia/Tokyo
BEGIN:STANDARD
TZOFFSETFROM:+0900
TZOFFSETTO:+0900
TZNAME:JST
DTSTART:20230101T000000
END:STANDARD
END:VTIMEZONE
BEGIN:VEVENT
DTSTART;VALUE=DATE:20240807
DTEND;VALUE=DATE:20240808
DTSTAMP:20260425T235814
CREATED:20240618T015545Z
LAST-MODIFIED:20240711T004409Z
UID:6224-1722988800-1723075199@visualmusicjapan.com
SUMMARY:Petit Brabancon | Seven Garbage Born of Hatred (EP)
DESCRIPTION:Petit Brabancon | Seven Garbage Born of Hatred (EP) \n \nLIMITED EDITION: BUY HERE\nREGULAR EDITION: BUY HERE \n \nTRACKLIST:\n01. move [Music: yukihiro]\n02. dub driving [Lyrics: Kyo | Music: antz]\n03. BATMAN [Lyrics: Kyo | Music: Miya]\n04. Ganko [Lyrics: Kyo |Music : Miya]\n05. a humble border [Lyrics : Kyo | Music : yukihiro]\n06. Mickey [Lyrics : Kyo | Music : antz]\n07. Vendetta [Lyrics: Kyo | Music : Miya] \n \nMORE INFO:\nOfficial Website\nX (ex-Twitter)
URL:https://visualmusicjapan.com/event/petit-brabancon-seven-garbage-born-of-hatred-ep
CATEGORIES:Upcoming Release
ATTACH;FMTTYPE=image/jpeg:https://visualmusicjapan.com/wp-content/uploads/2024/06/petitbrabancon2024.jpg
END:VEVENT
END:VCALENDAR