BEGIN:VCALENDAR
VERSION:2.0
PRODID:-//VMJ - ECPv6.15.20//NONSGML v1.0//EN
CALSCALE:GREGORIAN
METHOD:PUBLISH
X-WR-CALNAME:VMJ
X-ORIGINAL-URL:https://visualmusicjapan.com
X-WR-CALDESC:Events for VMJ
REFRESH-INTERVAL;VALUE=DURATION:PT1H
X-Robots-Tag:noindex
X-PUBLISHED-TTL:PT1H
BEGIN:VTIMEZONE
TZID:Asia/Tokyo
BEGIN:STANDARD
TZOFFSETFROM:+0900
TZOFFSETTO:+0900
TZNAME:JST
DTSTART:20230101T000000
END:STANDARD
END:VTIMEZONE
BEGIN:VEVENT
DTSTART;VALUE=DATE:20241025
DTEND;VALUE=DATE:20241026
DTSTAMP:20260425T221700
CREATED:20240924T012245Z
LAST-MODIFIED:20241127T125116Z
UID:6719-1729814400-1729900799@visualmusicjapan.com
SUMMARY:NUL. | AVA (album)
DESCRIPTION:NUL. | AVA (album)\nRELEASE DATE: October 25th (2024)\nPURCHASE: PHYSICAL & DIGITAL \nTRACKLIST:\n01. CRUMBLE\n02. HYENA\n03. GOD ALONE KNOWS\n04. DIVE\n05. DΦPE SHΦW\n06. GRAVITY\n07. Ihou Kaihouku (違法解放区)\n08. INFERNAL\n09. HYBRID BEAST\n10. THE LAST DAY \nINTERVIEW HERE
URL:https://visualmusicjapan.com/event/release-nul-ava-album
CATEGORIES:Upcoming Release
ATTACH;FMTTYPE=image/jpeg:https://visualmusicjapan.com/wp-content/uploads/2024/09/AVA_jacket.jpg
END:VEVENT
END:VCALENDAR