BEGIN:VCALENDAR
VERSION:2.0
PRODID:-//VMJ - ECPv6.15.20//NONSGML v1.0//EN
CALSCALE:GREGORIAN
METHOD:PUBLISH
X-ORIGINAL-URL:https://visualmusicjapan.com
X-WR-CALDESC:Events for VMJ
REFRESH-INTERVAL;VALUE=DURATION:PT1H
X-Robots-Tag:noindex
X-PUBLISHED-TTL:PT1H
BEGIN:VTIMEZONE
TZID:Asia/Tokyo
BEGIN:STANDARD
TZOFFSETFROM:+0900
TZOFFSETTO:+0900
TZNAME:JST
DTSTART:20240101T000000
END:STANDARD
END:VTIMEZONE
BEGIN:VEVENT
DTSTART;VALUE=DATE:20250924
DTEND;VALUE=DATE:20250925
DTSTAMP:20260424T124819
CREATED:20250919T004648Z
LAST-MODIFIED:20250923T051047Z
UID:8085-1758672000-1758758399@visualmusicjapan.com
SUMMARY:lynch. | THE AVOIDED SUN / SHADOWS (album)
DESCRIPTION:lynch. | THE AVOIDED SUN / SHADOWS (album)\nRELEASE DATE: Sept. 24th (2025)\nRECORD COMPANY: KING RECORDS \n\nlynch. announces second retake album as part of 20th anniversary project\nStill riding the momentum of their 20th anniversary celebrations\, lynch. is set to revisit another defining chapter of their early discography. The band will release a second retake album\, THE AVOIDED SUN / SHADOWS\, on September 24th\, continuing their journey of reimagining foundational works with modern sensibilities. The announcement came during the tour final at Spotify O-EAST on June 20\, unveiling this re-recorded release as Act 8 of 10 in the ongoing lynch. 20th ANNIVERSARY PROJECT — a yearlong series of live and studio activities marking two decades of the band’s career. Following the blueprint of their first retake release\, GREEDY DEAD SOUL / UNDERNEATH THE SKIN\, this new edition focuses on the second half of their indie-era catalog\, offering updated versions of tracks that helped shape lynch.’s early identity. The limited edition package includes four discs\, making it a must-have for long-time fans and new listeners eager to discover the roots of lynch. through a modern lens. Interview coming up soon… \nTRACKLIST:\nCD 1 – THE AVOIDED SUN\n01. LIBERATION CHORD\n02. I’M SICK\, B’CUZ LUV U.\n03. ROARING IN THE DARK\n04. ECDYSIS\n05. FORGIVEN\n06. ANEMONE\n07. THE UNIVERSE\n08. ENEMY\n09. PROMINENCE\n10. FROM THE END \nCD 2 – SHADOWS\n01. LAST NITE\n02. ADORE\n03. MAZE\n04. EVILLY\n05. I DON’T KNOW WHERE I AM\n06. AMBIVALENT IDEAL\n07. THE BLASTED BACK BONE\n08. SHADOWZ\n09. CULTIC MY EXECUTION\n10. MARROW \nCD 3 – BRINGER \n01. BRINGER\n02. AN ILLUSION\n03. DOZE\n04. A GLEAM IN EYE\n05. ALL THIS I’LL GIVE YOU\n06. JUDGEMENT \nBlu-ray\nBRINGER Music Video\nBRINGER Music Video Making \nMUSIC VIDEO:\nBRINGER \n \nPURCHASE:\nCD Japan: THE AVOIDED SUN / SHADOWS [3CD+Blu-ray / Limited Release] / lynch. \nARTWORK: \n \n⩺ OFFICIAL WEBSITE | HERE\n⩺ OFFICIAL X | HERE\n⩺ OFFICIAL YOUTUBE | HERE
URL:https://visualmusicjapan.com/event/release-lynch-the-avoided-sun-shadows
CATEGORIES:Upcoming Release
ATTACH;FMTTYPE=image/jpeg:https://visualmusicjapan.com/wp-content/uploads/2025/09/theavoidedsun-shadows-lynch.jpg
END:VEVENT
BEGIN:VEVENT
DTSTART;VALUE=DATE:20250924
DTEND;VALUE=DATE:20250925
DTSTAMP:20260424T124819
CREATED:20250919T012219Z
LAST-MODIFIED:20251029T060032Z
UID:8101-1758672000-1758758399@visualmusicjapan.com
SUMMARY:INORAN | Niraikanai -Rerecorded- (album)
DESCRIPTION:INORAN | Niraikanai -Rerecorded- (album)\nRELEASE DATE: Sept. 24th (2025)\nRECORD COMPANY: KING RECORDS \n \n\nINORAN announces Niraikanai – Rerecorded\nINORAN — rhythm guitarist and co-founder of the legendary band LUNA SEA — will release his new album Niraikanai -Rerecorded on September 24th\, 2025. First released in 2007\, Niraikanai has long been regarded as one of INORAN’s defining solo works. Inspired by the landscapes and spirit of Okinawa (Japan)\, the album carried a unique atmosphere that resonated deeply with fans. Now\, nearly two decades later\, INORAN revisits the album in its entirety\, bringing a fresh energy while preserving the soul of the original. Reuniting with long-time collaborators u:zo (bass) and Ryo Yamagata (drums)\, he has reconstructed the record with new arrangements that highlight his forward-looking mindset. More than a nostalgic project\, Niraikanai -Rerecorded represents transformation: a way of returning to the past in order to move boldly toward the future. This new release not only reconnects him with his roots but also affirms his place as an artist who never stops climbing new peaks. Interview coming up soon! \nPURCHASE:\nCD Japan: Niraikanai -Rerecorded- / INORAN \nTRACKLIST:\n01. Determine\n02. Unstoppable\n03. Diffused reflection\n04. Walk along\n05. Cloudiness\n06. Toki no Iro\n07. Anything\n08. I miss you\n09. Discuss\n10. Sonzai no Kakera \nMUSIC VIDEO:\nDetermine (Niraikanai – Rerecorded) \n \nMORE INFO:\nKING RECORDS \n⩺ OFFICIAL WEBSITE | HERE\n⩺ OFFICIAL FACEBOOK | HERE\n⩺ OFFICIAL INSTAGRAM |  HERE\n⩺ OFFICIAL X (ex-TWITTER) |  HERE\n⩺ OFFICIAL YOUTUBE CHANNEL |  HERE
URL:https://visualmusicjapan.com/event/release-inoran-niraikanai-rerecorded-album
CATEGORIES:Upcoming Release
ATTACH;FMTTYPE=image/jpeg:https://visualmusicjapan.com/wp-content/uploads/2025/09/inoran-niraikanai-2.jpg
END:VEVENT
END:VCALENDAR