BEGIN:VCALENDAR
VERSION:2.0
PRODID:-//VMJ - ECPv6.15.20//NONSGML v1.0//EN
CALSCALE:GREGORIAN
METHOD:PUBLISH
X-ORIGINAL-URL:https://visualmusicjapan.com
X-WR-CALDESC:Events for VMJ
REFRESH-INTERVAL;VALUE=DURATION:PT1H
X-Robots-Tag:noindex
X-PUBLISHED-TTL:PT1H
BEGIN:VTIMEZONE
TZID:Asia/Tokyo
BEGIN:STANDARD
TZOFFSETFROM:+0900
TZOFFSETTO:+0900
TZNAME:JST
DTSTART:20230101T000000
END:STANDARD
END:VTIMEZONE
BEGIN:VTIMEZONE
TZID:UTC
BEGIN:STANDARD
TZOFFSETFROM:+0000
TZOFFSETTO:+0000
TZNAME:UTC
DTSTART:20230101T000000
END:STANDARD
END:VTIMEZONE
BEGIN:VEVENT
DTSTART;VALUE=DATE:20240307
DTEND;VALUE=DATE:20240308
DTSTAMP:20260424T041922
CREATED:20231220T134506Z
LAST-MODIFIED:20231220T134506Z
UID:3526-1709769600-1709855999@visualmusicjapan.com
SUMMARY:THE MORTAL | I AM MORTAL (vinyl)
DESCRIPTION:THE MORTAL | I AM MORTAL (vinyl) \nSide A\n01. tenshi (天使)\n02. DEAD CAN DANCE\n03. Barbaric Man\nSide B\n01. yume (夢) -Deep Dream\n02. Fantomas – tenrankai no otoko (展覧会の男)\n03. MOTHER\nSide C\n01. guignol (ギニョル)\n02. tsuki (月)\n03. PAIN DROP -It rains cats & dogs\nSide D\n01. grotesque (グロテスク)\n02. Mortal\n03. sayonara waltz (サヨナラワルツ)
URL:https://visualmusicjapan.com/event/the-mortal-i-am-mortal-vinyl
CATEGORIES:Upcoming Release
ATTACH;FMTTYPE=image/jpeg:https://visualmusicjapan.com/wp-content/uploads/2023/12/the-mortal-iam-mortal.jpg
END:VEVENT
BEGIN:VEVENT
DTSTART;VALUE=DATE:20240307
DTEND;VALUE=DATE:20240308
DTSTAMP:20260424T041922
CREATED:20231220T133400Z
LAST-MODIFIED:20231220T134145Z
UID:3522-1709769600-1709855999@visualmusicjapan.com
SUMMARY:Atsushi Sakurai | Ai no Wakusei (vinyl) [2LP]
DESCRIPTION:Atsushi Sakurai | Ai no Wakusei (vinyl) [2LP] \n \nSide A\n01. SACRIFICE (Last Confused Mix)\n02. YELLOW PIG\n03. X-LOVER\n04. I HATE YOU ALL\nSide B\n05. WONDERFUL WORLD (Injection to UK mix)\n06. SMELL\n07. Märchen\n08. Fantasy\nSide C\n09. taiji (胎児)\n10. hallelujah (ハレルヤ!)\n11. shingetsu (新⽉)\nSide D\n12. yokan (予感) (2004 re-construct)\n13. wakusei (惑星)\n14. neko (猫) \nLimited Edition\,\nMarch 7\, 2024
URL:https://visualmusicjapan.com/event/atsushi-sakurai-ai-no-wakusei-vinyl-2lp
CATEGORIES:Upcoming Release
ATTACH;FMTTYPE=image/jpeg:https://visualmusicjapan.com/wp-content/uploads/2023/12/atsushi-sakurai-ai-no-wakusei.jpg
END:VEVENT
BEGIN:VEVENT
DTSTART;VALUE=DATE:20240117
DTEND;VALUE=DATE:20240118
DTSTAMP:20260424T041922
CREATED:20231115T014609Z
LAST-MODIFIED:20231221T080843Z
UID:1060-1705449600-1705535999@visualmusicjapan.com
SUMMARY:DIR EN GREY | 19990120 (single)
DESCRIPTION:DIR EN GREY | 19990120 (regular single)\nBlu-ray limited version: BUY HERE\nDVD version: BUY HERE\nRegular version: BUY HERE
URL:https://visualmusicjapan.com/event/dir-en-gray-bataclan-paris-75-july-2-2024
CATEGORIES:Upcoming Release
ATTACH;FMTTYPE=image/jpeg:https://visualmusicjapan.com/wp-content/uploads/2023/11/19990120_regular_RJzUastS.jpg
END:VEVENT
END:VCALENDAR