BEGIN:VCALENDAR
VERSION:2.0
PRODID:-//VMJ - ECPv6.15.20//NONSGML v1.0//EN
CALSCALE:GREGORIAN
METHOD:PUBLISH
X-WR-CALNAME:VMJ
X-ORIGINAL-URL:https://visualmusicjapan.com
X-WR-CALDESC:Events for VMJ
REFRESH-INTERVAL;VALUE=DURATION:PT1H
X-Robots-Tag:noindex
X-PUBLISHED-TTL:PT1H
BEGIN:VTIMEZONE
TZID:UTC
BEGIN:STANDARD
TZOFFSETFROM:+0000
TZOFFSETTO:+0000
TZNAME:UTC
DTSTART:20230101T000000
END:STANDARD
END:VTIMEZONE
BEGIN:VEVENT
DTSTART;VALUE=DATE:20240117
DTEND;VALUE=DATE:20240118
DTSTAMP:20260425T233937
CREATED:20231115T014609Z
LAST-MODIFIED:20231221T080843Z
UID:1060-1705449600-1705535999@visualmusicjapan.com
SUMMARY:DIR EN GREY | 19990120 (single)
DESCRIPTION:DIR EN GREY | 19990120 (regular single)\nBlu-ray limited version: BUY HERE\nDVD version: BUY HERE\nRegular version: BUY HERE
URL:https://visualmusicjapan.com/event/dir-en-gray-bataclan-paris-75-july-2-2024
CATEGORIES:Upcoming Release
ATTACH;FMTTYPE=image/jpeg:https://visualmusicjapan.com/wp-content/uploads/2023/11/19990120_regular_RJzUastS.jpg
END:VEVENT
END:VCALENDAR