BEGIN:VCALENDAR
VERSION:2.0
PRODID:-//VMJ - ECPv6.15.20//NONSGML v1.0//EN
CALSCALE:GREGORIAN
METHOD:PUBLISH
X-ORIGINAL-URL:https://visualmusicjapan.com
X-WR-CALDESC:Events for VMJ
REFRESH-INTERVAL;VALUE=DURATION:PT1H
X-Robots-Tag:noindex
X-PUBLISHED-TTL:PT1H
BEGIN:VTIMEZONE
TZID:Asia/Tokyo
BEGIN:STANDARD
TZOFFSETFROM:+0900
TZOFFSETTO:+0900
TZNAME:JST
DTSTART:20250101T000000
END:STANDARD
END:VTIMEZONE
BEGIN:VEVENT
DTSTART;VALUE=DATE:20260422
DTEND;VALUE=DATE:20260423
DTSTAMP:20260424T042529
CREATED:20260415T024538Z
LAST-MODIFIED:20260422T031552Z
UID:8759-1776816000-1776902399@visualmusicjapan.com
SUMMARY:D'ERLANGER | Evermore (album)
DESCRIPTION:D’ERLANGER | Evermore (album)\nRELEASE DATE: April 22nd (2026)\nRECORD COMPANY: Warner Music Japan \nD’ERLANGER have revealed the full details of Evermore\, their eleventh studio album\, due May 22nd — the 19th anniversary of the band’s reunion. The Deluxe Edition comes as a box set with a 24-page photo booklet and exclusive 16-page CD booklet. Its DVD features previously unreleased live footage from the fan club shows KIDS BLUE STANDING SPECIAL 2024 and 2025\, both held at EX THEATER ROPPONGI on December 24th\, including individual performance footage of all four members across three songs — 12 videos in total. The Standard Edition adds a bonus track — You’re gonna be the one that saves me — and its own exclusive 16-page booklet. All artwork across both editions was handled by drummer Tetsu. First-press purchase bonuses vary by retailer. \nARTWORK: \n \nTRACKLIST:\n01. undercover of darkness\n02. Kiss My Blood\n03. Roses blooming softly at nite\n04. Mutinity In Heaven\n05. C’est la vie\n06. Shin’ai\n07. You’re gonna be the one that saves me (※ bonus track)\n08. RAIN\n09. SPs＼E5th.mdnt\n10.Umbrella\n11. Wandering Star \nPre-orders are open now (click here).\nOur exclusive interview with vocalist kyo is live now on VMJ (click here). \n \nMandah FRÉNOT\n(c) VMJ\n───────────── \n⩺ OFFICIAL WEBSITE | HERE\n⩺ OFFICIAL X | HERE\n⩺ OFFICIAL FACEBOOK | HERE\n⩺ OFFICIAL YOUTUBE | HERE
URL:https://visualmusicjapan.com/event/release-derlanger-evermore
CATEGORIES:Upcoming Release
ATTACH;FMTTYPE=image/jpeg:https://visualmusicjapan.com/wp-content/uploads/2026/04/derlanger-evermore.jpg
END:VEVENT
BEGIN:VEVENT
DTSTART;VALUE=DATE:20260423
DTEND;VALUE=DATE:20260424
DTSTAMP:20260424T042529
CREATED:20260202T012440Z
LAST-MODIFIED:20260202T013402Z
UID:8651-1776902400-1776988799@visualmusicjapan.com
SUMMARY:Lucy | ROCKAROLLICA III (album)
DESCRIPTION:Lucy | ROCKAROLLICA III (album)\nRELEASE DATE: April 23rd (2026)\nRECORD COMPANY: Victor Entertainment \n \nLucy is back after 20 years of silence!\nThe powerhouse trio\, featuring Hisashi Imai (BUCK-TICK)\, Kiyoshi (hide with Spread Beaver)\, and Katsushige Okazaki (M-AGE) has officially announced their long-awaited resurrection. The band is currently in the studio recording their third album\, staying true to their signature sound. Fans can look forward to a Limited First Press Edition\, which features a bonus disc with brand-new footage. A teaser video is already available on their official social media channels. The reunion features a new visual illustrated by Shou Tajima\, the artist behind the manga Multiple Personality Detective Psycho. This is a special tribute to the band’s history\, as their name was inspired by the character Lucy Monostone from Tajima’s work.\nTo celebrate the reunion\, Lucy will re-release their first two albums\, ROCKAROLLICA (2004) and ROCKAROLLICA II (2006)\, on April 10th\, 2026. These limited reissues feature 2026 remastering and iconic Digipak artwork by designer Ken Sakaguchi; pre-orders are available now.\nThe band is also set to return to the stage with their first tour in two decades: Lucy Show 003 ～Shout\, Speed\, Shake Your Rockarollica～. The tour kicks off at SUPERNOVA KAWASAKI and concludes with a grand finale at EX THEATER ROPPONGI\, spanning nine performances across eight cities in Japan from April 26 to May 24. \nFurther information will be added as it becomes available. \n─────────────\nMandah FRÉNOT\n(c) VMJ \n⩺ OFFICIAL WEBSITE | HERE\n⩺ OFFICIAL INSTAGRAM | HERE\n⩺ OFFICIAL X (ex-TWITTER) |  HERE\n⩺ OFFICIAL YOUTUBE CHANNEL |  HERE
URL:https://visualmusicjapan.com/event/release-lucy-rockarollica-iii-album
CATEGORIES:Upcoming Release
ATTACH;FMTTYPE=image/png:https://visualmusicjapan.com/wp-content/uploads/2026/02/lucy-vmj-rock.png
END:VEVENT
BEGIN:VEVENT
DTSTART;VALUE=DATE:20260529
DTEND;VALUE=DATE:20260530
DTSTAMP:20260424T042529
CREATED:20260417T105702Z
LAST-MODIFIED:20260417T105702Z
UID:8776-1780012800-1780099199@visualmusicjapan.com
SUMMARY:LUNA SEA | FOREVER (single)
DESCRIPTION:LUNA SEA | FOREVER (album)\nRELEASE DATE: May 29th (2026) \nWhen we covered LUNA SEA’s return to the stage at Ariake Arena last March\, we closed by saying the band stood at the edge of winter — ready to flourish into spring. They didn’t waste any time. LUNA SEA have just announced FOREVER\, their first new song in approximately 6 years\, set for release on May 29th. The announcement was made tonight through a video message from each member of the band\, on what happens to be a new moon. The release date aligns with the band’s formation anniversary and the opening night of their nationwide UNENDING JOURNEY -FOREVER– tour\, which kicks off in Hadano\, Kanagawa — Shinya’s hometown\, where ROSIER and I for You remain embedded in the city’s train station melodies to this day.\nThe title will surprise no one who was paying attention at Ariake. Shinya’s final instruction to his bandmates — “No matter what happens\, do NOT stop LUNA SEA” — set the terms. FOREVER is the band’s public answer to that charge\, arriving on the day they were born\, in the city that meant most to the brother they lost. The tour runs from May 29th through October 18th\, covering 33 shows across 22 cities. \n⩺ PURCHASE | HERE \n─────────────\nMandah FRÉNOT\n(c) VMJ \n⩺ OFFICIAL WEBSITE | HERE\n⩺ OFFICIAL INSTAGRAM | HERE\n⩺ OFFICIAL X (ex-TWITTER) | HERE\n⩺ OFFICIAL YOUTUBE CHANNEL | HERE
URL:https://visualmusicjapan.com/event/release-luna-sea-forever-single
CATEGORIES:Upcoming Release
ATTACH;FMTTYPE=image/jpeg:https://visualmusicjapan.com/wp-content/uploads/2026/04/lunaseaforever.jpg
END:VEVENT
END:VCALENDAR