BEGIN:VCALENDAR
VERSION:2.0
PRODID:-//VMJ - ECPv6.15.20//NONSGML v1.0//EN
CALSCALE:GREGORIAN
METHOD:PUBLISH
X-ORIGINAL-URL:https://visualmusicjapan.com
X-WR-CALDESC:Events for VMJ
REFRESH-INTERVAL;VALUE=DURATION:PT1H
X-Robots-Tag:noindex
X-PUBLISHED-TTL:PT1H
BEGIN:VTIMEZONE
TZID:Asia/Tokyo
BEGIN:STANDARD
TZOFFSETFROM:+0900
TZOFFSETTO:+0900
TZNAME:JST
DTSTART:20230101T000000
END:STANDARD
END:VTIMEZONE
BEGIN:VEVENT
DTSTART;VALUE=DATE:20240601
DTEND;VALUE=DATE:20240602
DTSTAMP:20260425T054936
CREATED:20240401T004140Z
LAST-MODIFIED:20250701T070303Z
UID:5653-1717200000-1717286399@visualmusicjapan.com
SUMMARY:Luv PARADE | JOKER (mini-album)
DESCRIPTION:Luv PARADE | JOKER (mini-album) \n \nRelease date:\nJune 1st\, 2024 \nTracklist:\n01. ENTER THE PARADE\n02. JOKER\n03. TONIGHT\, TONIGHT\, TONIGHT\n04. MIDNIGHT SUN\n05. INTO THE FLAMES\n06. NEW WORLD \n \nTRAILER: \n \nMV: TONIGHT\, TONIGHT\, TONIGHT \n \nBuy the album:\nOfficial store \nMore information:\nOfficial Website\nOfficial X
URL:https://visualmusicjapan.com/event/luv-parade-joker-mini-album
CATEGORIES:Upcoming Release
ATTACH;FMTTYPE=image/jpeg:https://visualmusicjapan.com/wp-content/uploads/2024/03/LP202406_re4-scaled.jpg
END:VEVENT
BEGIN:VEVENT
DTSTART;VALUE=DATE:20240609
DTEND;VALUE=DATE:20240610
DTSTAMP:20260425T054936
CREATED:20240402T013740Z
LAST-MODIFIED:20240530T005155Z
UID:5679-1717891200-1717977599@visualmusicjapan.com
SUMMARY:Far-East Phallus Kicker | META-ROMAN-SONIC (album)
DESCRIPTION:Far-East Phallus Kicker | META-ROMAN-SONIC (album) \nRelease date: June 09th\, 2024\nMore information: CLICK HERE \n \nBUY THE ALBUM: HERE \n \nTRACKLIST:\n01. À Bout de Souffle\n02. Code Name : SlimGenie [コードネーム : SlimGenie]\n03. Deux Ex Machina [デウスエクスマキナ]\n04. Gestaltzerfall [ゲシュタルト崩壊 ]\n05. Alien Beauty\n06. Far North of Romance [極北ロマンス]\n07. Love Misery [愛 Misery]\n08. Theme of FEPK [極東ファロスキッカーのテーマ]\n09. Unlimited dB [無限デシベル]\n10. Demon King Rebellion [魔王リベリオン]\n11. Deadhead Pierrot [ろくでなしピエロ]\n12. Sweet FREQ\n13. Orphée the August God [美神オルフェ]
URL:https://visualmusicjapan.com/event/far-east-phallus-kicker-metaroumansonic-album
CATEGORIES:Upcoming Release
ATTACH;FMTTYPE=image/jpeg:https://visualmusicjapan.com/wp-content/uploads/2023/12/PH15.jpg
END:VEVENT
BEGIN:VEVENT
DTSTART;VALUE=DATE:20240620
DTEND;VALUE=DATE:20240621
DTSTAMP:20260425T054936
CREATED:20240402T005722Z
LAST-MODIFIED:20240402T010334Z
UID:5656-1718841600-1718927999@visualmusicjapan.com
SUMMARY:JILUKA @ Hybrydy\, Warsaw [PL] – June\, 20 (2024)
DESCRIPTION:BUY TICKETS: HERE
URL:https://visualmusicjapan.com/event/jiluka-hybrydy-warsaw-pl-june-20-2024
CATEGORIES:Upcoming Event
ATTACH;FMTTYPE=image/jpeg:https://visualmusicjapan.com/wp-content/uploads/2024/04/jiluka-promo.jpg
END:VEVENT
BEGIN:VEVENT
DTSTART;VALUE=DATE:20240621
DTEND;VALUE=DATE:20240622
DTSTAMP:20260425T054936
CREATED:20240402T010225Z
LAST-MODIFIED:20240402T010225Z
UID:5662-1718928000-1719014399@visualmusicjapan.com
SUMMARY:JILUKA @ Randal Club\, Bratislava [SK] – June\, 21 (2024)
DESCRIPTION:BUY TICKETS: HERE
URL:https://visualmusicjapan.com/event/jiluka-randal-club-bratislava-sk-june-21-2024
CATEGORIES:Upcoming Event
ATTACH;FMTTYPE=image/jpeg:https://visualmusicjapan.com/wp-content/uploads/2024/04/jiluka-promo.jpg
END:VEVENT
BEGIN:VEVENT
DTSTART;VALUE=DATE:20240623
DTEND;VALUE=DATE:20240624
DTSTAMP:20260425T054936
CREATED:20240402T010533Z
LAST-MODIFIED:20240402T010533Z
UID:5665-1719100800-1719187199@visualmusicjapan.com
SUMMARY:JILUKA @ Club Volta\, Cologne [DE] – June\, 23 (2024)
DESCRIPTION:BUY TICKETS: HERE
URL:https://visualmusicjapan.com/event/jiluka-club-volta-cologne-de-june-23-2024
CATEGORIES:Upcoming Event
ATTACH;FMTTYPE=image/jpeg:https://visualmusicjapan.com/wp-content/uploads/2024/04/jiluka-promo.jpg
END:VEVENT
BEGIN:VEVENT
DTSTART;VALUE=DATE:20240624
DTEND;VALUE=DATE:20240625
DTSTAMP:20260425T054936
CREATED:20240402T010728Z
LAST-MODIFIED:20240402T010822Z
UID:5667-1719187200-1719273599@visualmusicjapan.com
SUMMARY:JILUKA @ La Maroquinerie\, Paris [FR] – June\, 24 (2024)
DESCRIPTION:BUY TICKETS: HERE
URL:https://visualmusicjapan.com/event/jiluka-la-maroquinerie-paris-fr-june-24-2024
CATEGORIES:Upcoming Event
ATTACH;FMTTYPE=image/jpeg:https://visualmusicjapan.com/wp-content/uploads/2024/04/jiluka-promo.jpg
END:VEVENT
BEGIN:VEVENT
DTSTART;VALUE=DATE:20240626
DTEND;VALUE=DATE:20240627
DTSTAMP:20260425T054936
CREATED:20240530T005401Z
LAST-MODIFIED:20240711T011212Z
UID:6180-1719360000-1719446399@visualmusicjapan.com
SUMMARY:lynch. | FIERCE (EP)
DESCRIPTION:lynch. | FIERCE (EP) \n \nTRACKLIST:\n01. UN DEUX TROIS\n02. EXCENTRIC\n03. MADARA\n04. A FIERCE BLAZE\n05. REMAINS \nRELEASE DATE: June\, 26th 2024 \n \n \nMORE INFO:\nX (Twitter)\nKing Records\nDSP (streaming) \n 
URL:https://visualmusicjapan.com/event/release-lynch-fierce-ep
CATEGORIES:Upcoming Release
ATTACH;FMTTYPE=image/jpeg:https://visualmusicjapan.com/wp-content/uploads/2024/05/lynchartistphoto-scaled.jpg
END:VEVENT
BEGIN:VEVENT
DTSTART;VALUE=DATE:20240626
DTEND;VALUE=DATE:20240627
DTSTAMP:20260425T054936
CREATED:20240402T011110Z
LAST-MODIFIED:20240402T011110Z
UID:5669-1719360000-1719446399@visualmusicjapan.com
SUMMARY:JILUKA @ The Underworld\, London [UK] – June\, 26 (2024)
DESCRIPTION:BUY TICKETS: HERE
URL:https://visualmusicjapan.com/event/jiluka-the-underworld-london-uk-june-26-2024
CATEGORIES:Upcoming Event
ATTACH;FMTTYPE=image/jpeg:https://visualmusicjapan.com/wp-content/uploads/2024/04/jiluka-promo.jpg
END:VEVENT
BEGIN:VEVENT
DTSTART;VALUE=DATE:20240628
DTEND;VALUE=DATE:20240629
DTSTAMP:20260425T054936
CREATED:20240402T011321Z
LAST-MODIFIED:20240402T011321Z
UID:5671-1719532800-1719619199@visualmusicjapan.com
SUMMARY:JILUKA @ Resurrection FEST\, Viveiro [ES] – June\, 26 (2024)
DESCRIPTION:MORE INFO: HERE
URL:https://visualmusicjapan.com/event/jiluka-resurrection-fest-viveiro-es-june-26-2024
CATEGORIES:Upcoming Event
ATTACH;FMTTYPE=image/jpeg:https://visualmusicjapan.com/wp-content/uploads/2024/04/jiluka-promo.jpg
END:VEVENT
BEGIN:VEVENT
DTSTART;VALUE=DATE:20240629
DTEND;VALUE=DATE:20240630
DTSTAMP:20260425T054936
CREATED:20240402T011456Z
LAST-MODIFIED:20250701T070044Z
UID:5673-1719619200-1719705599@visualmusicjapan.com
SUMMARY:JILUKA @ EVIL LIVE FEST\, Viveiro [PT] – June\, 29 (2024)
DESCRIPTION:MORE INFO: HERE
URL:https://visualmusicjapan.com/event/jiluka-evil-live-fest-viveiro-pt-june-29-2024
CATEGORIES:Upcoming Event
ATTACH;FMTTYPE=image/jpeg:https://visualmusicjapan.com/wp-content/uploads/2024/04/jiluka-promo.jpg
END:VEVENT
END:VCALENDAR